BEGIN:VCALENDAR
VERSION:2.0
PRODID:-//Autour de la baleine - ECPv6.15.20//NONSGML v1.0//EN
CALSCALE:GREGORIAN
METHOD:PUBLISH
X-ORIGINAL-URL:https://www.autourdelabaleine.fr
X-WR-CALDESC:Évènements pour Autour de la baleine
REFRESH-INTERVAL;VALUE=DURATION:PT1H
X-Robots-Tag:noindex
X-PUBLISHED-TTL:PT1H
BEGIN:VTIMEZONE
TZID:Europe/Paris
BEGIN:DAYLIGHT
TZOFFSETFROM:+0100
TZOFFSETTO:+0200
TZNAME:CEST
DTSTART:20220327T010000
END:DAYLIGHT
BEGIN:STANDARD
TZOFFSETFROM:+0200
TZOFFSETTO:+0100
TZNAME:CET
DTSTART:20221030T010000
END:STANDARD
BEGIN:DAYLIGHT
TZOFFSETFROM:+0100
TZOFFSETTO:+0200
TZNAME:CEST
DTSTART:20230326T010000
END:DAYLIGHT
BEGIN:STANDARD
TZOFFSETFROM:+0200
TZOFFSETTO:+0100
TZNAME:CET
DTSTART:20231029T010000
END:STANDARD
BEGIN:DAYLIGHT
TZOFFSETFROM:+0100
TZOFFSETTO:+0200
TZNAME:CEST
DTSTART:20240331T010000
END:DAYLIGHT
BEGIN:STANDARD
TZOFFSETFROM:+0200
TZOFFSETTO:+0100
TZNAME:CET
DTSTART:20241027T010000
END:STANDARD
END:VTIMEZONE
BEGIN:VEVENT
DTSTART;TZID=Europe/Paris:20230906T200000
DTEND;TZID=Europe/Paris:20230906T213000
DTSTAMP:20260421T155705
CREATED:20230721T063618Z
LAST-MODIFIED:20230721T065209Z
UID:7598-1694030400-1694035800@www.autourdelabaleine.fr
SUMMARY:Assemblée collégiale
DESCRIPTION:
URL:https://www.autourdelabaleine.fr/agenda/assemblee-collegiale-4/
LOCATION:Café Maya\, 10 rue Erard\, Paris\, 75012\, France
CATEGORIES:Réunion
END:VEVENT
BEGIN:VEVENT
DTSTART;TZID=Europe/Paris:20230909T180000
DTEND;TZID=Europe/Paris:20230909T203000
DTSTAMP:20260421T155705
CREATED:20230427T130744Z
LAST-MODIFIED:20230427T130744Z
UID:7486-1694282400-1694291400@www.autourdelabaleine.fr
SUMMARY:CULTURE DES MOTS
DESCRIPTION:Lecture Marronne \nAutour du Livre : L’histoire des Antilles ” française” Guadeloupe et Martinique de la préhistoire à nos jours \nde Jahlyssa Sekhmet
URL:https://www.autourdelabaleine.fr/agenda/culture-des-mots-2/
END:VEVENT
BEGIN:VEVENT
DTSTART;TZID=Europe/Paris:20230914T203000
DTEND;TZID=Europe/Paris:20230914T220000
DTSTAMP:20260421T155705
CREATED:20230820T192800Z
LAST-MODIFIED:20230820T192800Z
UID:7694-1694723400-1694728800@www.autourdelabaleine.fr
SUMMARY:réunion prépa fête des 20 ans
DESCRIPTION:
URL:https://www.autourdelabaleine.fr/agenda/reunion-prepa-fete-des-20-ans/
LOCATION:Café Maya\, 10 rue Erard\, Paris\, 75012\, France
END:VEVENT
BEGIN:VEVENT
DTSTART;TZID=Europe/Paris:20230916T140000
DTEND;TZID=Europe/Paris:20230916T160000
DTSTAMP:20260421T155705
CREATED:20230415T205447Z
LAST-MODIFIED:20230415T205447Z
UID:7474-1694872800-1694880000@www.autourdelabaleine.fr
SUMMARY:CULTURE DE LA TERRE
DESCRIPTION:Culture de la terre \nVolet 6 – Récoltes \nPour qui ? : population qui subit les plus grosses catastrophes écologiques
URL:https://www.autourdelabaleine.fr/agenda/culture-de-la-terre-5/
END:VEVENT
BEGIN:VEVENT
DTSTART;TZID=Europe/Paris:20230916T170000
DTEND;TZID=Europe/Paris:20230916T190000
DTSTAMP:20260421T155705
CREATED:20230807T125105Z
LAST-MODIFIED:20230807T130430Z
UID:7647-1694883600-1694890800@www.autourdelabaleine.fr
SUMMARY:Vernissage expo Mehrzad Najand
DESCRIPTION:L’association Autour de la Baleine\, partenaire privilégié de la bibliothèque Saint-Éloi\, fête cet automne ses 20 ans : à cette occasion\, découvrez les œuvres de 4 artistes du quartier à travers un cycle d’expositions !\n\n\n\n4 artistes du quartier Saint-Éloi\, autant d’univers sensibles et esthétiques à travers lesquels la bibliothèque vous invite à voyager !\n\n\nDu 8 au 30 septembre : Mehrzad Najand\, vernissage samedi 16 septembre 17h
URL:https://www.autourdelabaleine.fr/agenda/vernissage-expo-mehrzad-najand/
LOCATION:Bibliothèque Saint-Eloi
CATEGORIES:Exposition
ATTACH;FMTTYPE=image/png:https://www.autourdelabaleine.fr/wp-content/uploads/2023/08/expos-ADLB.png
END:VEVENT
BEGIN:VEVENT
DTSTART;VALUE=DATE:20230921
DTEND;VALUE=DATE:20231004
DTSTAMP:20260421T155705
CREATED:20230317T143035Z
LAST-MODIFIED:20230720T060708Z
UID:7358-1695254400-1696377599@www.autourdelabaleine.fr
SUMMARY:La Baleine fête ses 20 ans !
DESCRIPTION:
URL:https://www.autourdelabaleine.fr/agenda/la-baleine-fete-ses-20-ans/
END:VEVENT
BEGIN:VEVENT
DTSTART;TZID=Europe/Paris:20230921T190000
DTEND;TZID=Europe/Paris:20230921T200000
DTSTAMP:20260421T155705
CREATED:20230720T055441Z
LAST-MODIFIED:20230916T064433Z
UID:7585-1695322800-1695326400@www.autourdelabaleine.fr
SUMMARY:Concert de Lehna au jardin
DESCRIPTION:LEHNA_AFFICHE_ATOUR_DE_LA_BALEINE_CONCERT_21092023
URL:https://www.autourdelabaleine.fr/agenda/concert-de-lehna-au-jardin/
LOCATION:Jardin partagé Baleine verte
CATEGORIES:Concert
ATTACH;FMTTYPE=image/png:https://www.autourdelabaleine.fr/wp-content/uploads/2023/07/Capture-decran-2023-07-20-075403.png
END:VEVENT
BEGIN:VEVENT
DTSTART;TZID=Europe/Paris:20230922T183000
DTEND;TZID=Europe/Paris:20230922T200000
DTSTAMP:20260421T155705
CREATED:20230820T161436Z
LAST-MODIFIED:20230820T161949Z
UID:7674-1695407400-1695412800@www.autourdelabaleine.fr
SUMMARY:Balade commentée "arbres sans frontières"
DESCRIPTION:Balade dans le quartier Saint-Eloi à la découverte des arbres sans frontières\, dans le cadre de la  « Fête des jardins » \n20 personnes max. \nSur réservation par mail : labaleineverte12@gmail.com
URL:https://www.autourdelabaleine.fr/agenda/balade-commentee-arbres-sans-frontieres-2/
LOCATION:Jardin partagé Baleine verte
CATEGORIES:balade
ATTACH;FMTTYPE=image/jpeg:https://www.autourdelabaleine.fr/wp-content/uploads/2023/07/20210919_1906061-2048x1536-1.jpg
END:VEVENT
BEGIN:VEVENT
DTSTART;TZID=Europe/Paris:20230923T103000
DTEND;TZID=Europe/Paris:20230923T120000
DTSTAMP:20260421T155705
CREATED:20230724T070821Z
LAST-MODIFIED:20230807T123913Z
UID:7603-1695465000-1695470400@www.autourdelabaleine.fr
SUMMARY:Balade commentée Au fil de l'eau
DESCRIPTION:Une promenade dans le quartier Saint-Eloi\, sur les traces de l’eau dans tous ses états. \n Dans le cadre de la fête des jardins\, de l’automne de la science et des 20 ans de l’association Autour de la Baleine .\n \nSur inscription auprès de la bibliothèque (20 places max)
URL:https://www.autourdelabaleine.fr/agenda/balade-commentee-au-fil-de-leau-2/
LOCATION:Bibliothèque Saint-Eloi
CATEGORIES:balade
ATTACH;FMTTYPE=image/png:https://www.autourdelabaleine.fr/wp-content/uploads/2023/07/rallye-sensible-eau.png
END:VEVENT
BEGIN:VEVENT
DTSTART;TZID=Europe/Paris:20230923T180000
DTEND;TZID=Europe/Paris:20230923T190000
DTSTAMP:20260421T155705
CREATED:20230820T184045Z
LAST-MODIFIED:20230820T184643Z
UID:7682-1695492000-1695495600@www.autourdelabaleine.fr
SUMMARY:Concert de Bitume Plume et Musique
DESCRIPTION:Suivre BPM sur Facebook. \nEt pour tout savoir sur le lien entre BPM et Autour de la Baleine\, c’est par ici !
URL:https://www.autourdelabaleine.fr/agenda/concert-de-bitume-plume-et-musique/
LOCATION:Jardin partagé Baleine verte
ATTACH;FMTTYPE=image/jpeg:https://www.autourdelabaleine.fr/wp-content/uploads/2023/08/BPM.jpg
END:VEVENT
BEGIN:VEVENT
DTSTART;TZID=Europe/Paris:20230923T190000
DTEND;TZID=Europe/Paris:20230923T220000
DTSTAMP:20260421T155705
CREATED:20230724T071519Z
LAST-MODIFIED:20230724T071827Z
UID:7606-1695495600-1695506400@www.autourdelabaleine.fr
SUMMARY:Repas partagé
DESCRIPTION:Stéphane revient aux fourneaux pour la fête des 20 ans. \nLe menu sera dévoilé début septembre. \n30 places max\, réservation indispensable ! \nPar mail : labaleineverte12@gmail.com \n 
URL:https://www.autourdelabaleine.fr/agenda/repas-partage-2/
LOCATION:Café Maya\, 10 rue Erard\, Paris\, 75012\, France
CATEGORIES:Cuisine,Repas
END:VEVENT
BEGIN:VEVENT
DTSTART;TZID=Europe/Paris:20230924T163000
DTEND;TZID=Europe/Paris:20230924T173000
DTSTAMP:20260421T155705
CREATED:20230724T072109Z
LAST-MODIFIED:20230916T063851Z
UID:7608-1695573000-1695576600@www.autourdelabaleine.fr
SUMMARY:Atelier percussions
DESCRIPTION:Sur inscription\, max 6 personnes: labaleineverte12@gmail.com\nDurée 45 mn
URL:https://www.autourdelabaleine.fr/agenda/atelier-percussions/
LOCATION:Jardin partagé Baleine verte
CATEGORIES:Atelier,musique
ATTACH;FMTTYPE=image/jpeg:https://www.autourdelabaleine.fr/wp-content/uploads/2023/07/WhatsApp-Image-2023-09-10-at-13.31.20.jpeg
END:VEVENT
BEGIN:VEVENT
DTSTART;TZID=Europe/Paris:20230924T180000
DTEND;TZID=Europe/Paris:20230924T190000
DTSTAMP:20260421T155705
CREATED:20230724T072236Z
LAST-MODIFIED:20230724T072531Z
UID:7610-1695578400-1695582000@www.autourdelabaleine.fr
SUMMARY:Concert "Tuka Band & Racata Percussions"
DESCRIPTION:Concert au jardin\, entrée libre et gratuite
URL:https://www.autourdelabaleine.fr/agenda/concert-tuka-band-racata-percussions/
CATEGORIES:Concert
END:VEVENT
BEGIN:VEVENT
DTSTART;TZID=Europe/Paris:20230925T190000
DTEND;TZID=Europe/Paris:20230925T220000
DTSTAMP:20260421T155705
CREATED:20230903T181645Z
LAST-MODIFIED:20230903T181645Z
UID:7698-1695668400-1695679200@www.autourdelabaleine.fr
SUMMARY:Arpentage collectif d'un livre
DESCRIPTION:Exploration collective d’un ouvrage\, le titre sera précisé ultérieurement. \nGratuit\, sur inscription à labaleineverte12@gmail.com \n10 personnes maximum\, à partir de 15 ans. \nPour découvrir la méthode de l’arpentage : https://www.innovation-pedagogique.fr/article12522.html
URL:https://www.autourdelabaleine.fr/agenda/arpentage-collectif-dun-livre/
LOCATION:Café Maya\, 10 rue Erard\, Paris\, 75012\, France
CATEGORIES:adultes,Atelier écriture
END:VEVENT
BEGIN:VEVENT
DTSTART;TZID=Europe/Paris:20230926T180000
DTEND;TZID=Europe/Paris:20230926T190000
DTSTAMP:20260421T155705
CREATED:20230904T172115Z
LAST-MODIFIED:20230904T172229Z
UID:7717-1695751200-1695754800@www.autourdelabaleine.fr
SUMMARY:Yoga sur la terrasse
DESCRIPTION:6 places max \nRéservation nécessaire par mail : labaleineverte12@gmail.com
URL:https://www.autourdelabaleine.fr/agenda/yoga-sur-la-terrasse/
LOCATION:Jardin partagé Baleine verte
CATEGORIES:adultes,cours,yoga
END:VEVENT
BEGIN:VEVENT
DTSTART;TZID=Europe/Paris:20230927T160000
DTEND;TZID=Europe/Paris:20230927T183000
DTSTAMP:20260421T155705
CREATED:20230724T072942Z
LAST-MODIFIED:20230807T124114Z
UID:7614-1695830400-1695839400@www.autourdelabaleine.fr
SUMMARY:Atelier d'écriture
DESCRIPTION:Atelier d’écriture au jardin\, sur le thème de la Baleine \nSur inscription à la Bibliothèque Saint-Eloi\, gratuit\, dans la limite des places disponibles (12 places max)
URL:https://www.autourdelabaleine.fr/agenda/atelier-decriture-4/
LOCATION:Jardin partagé Baleine verte
CATEGORIES:Atelier,écriture
ATTACH;FMTTYPE=image/png:https://www.autourdelabaleine.fr/wp-content/uploads/2023/07/visuel-atelier-decriture-Autour-de-la-baleine.png
END:VEVENT
BEGIN:VEVENT
DTSTART;TZID=Europe/Paris:20230927T190000
DTEND;TZID=Europe/Paris:20230927T220000
DTSTAMP:20260421T155705
CREATED:20230724T074013Z
LAST-MODIFIED:20230724T074013Z
UID:7619-1695841200-1695852000@www.autourdelabaleine.fr
SUMMARY:am'apéro et présentation-débat sur la sécurité sociale alimentaire
DESCRIPTION:Avec la distribution des légumes de l’amap “le champ de la Baleine”\,
URL:https://www.autourdelabaleine.fr/agenda/amapero-et-presentation-debat-sur-la-securite-sociale-alimentaire/
LOCATION:Café Maya\, 10 rue Erard\, Paris\, 75012\, France
CATEGORIES:Amap,Apéro,Rencontre,soirée débat
END:VEVENT
BEGIN:VEVENT
DTSTART;TZID=Europe/Paris:20230928T190000
DTEND;TZID=Europe/Paris:20230928T210000
DTSTAMP:20260421T155705
CREATED:20230724T074350Z
LAST-MODIFIED:20230724T074350Z
UID:7621-1695927600-1695934800@www.autourdelabaleine.fr
SUMMARY:Concert chorale "l'attrape-choeur"
DESCRIPTION:Concert en deux étapes : place Rozanoff et jardin partagé la Baleine Verte
URL:https://www.autourdelabaleine.fr/agenda/concert-chorale-lattrape-choeur/
LOCATION:place Rozanoff\, Place Rozanoff\, Paris\, France
CATEGORIES:chorale,Concert
END:VEVENT
BEGIN:VEVENT
DTSTART;TZID=Europe/Paris:20230929T190000
DTEND;TZID=Europe/Paris:20230929T210000
DTSTAMP:20260421T155705
CREATED:20230220T185714Z
LAST-MODIFIED:20230417T124224Z
UID:7302-1696014000-1696021200@www.autourdelabaleine.fr
SUMMARY:Liza del Mar
DESCRIPTION:
URL:https://www.autourdelabaleine.fr/agenda/liza-del-mar/
LOCATION:Jardin partagé Baleine verte
CATEGORIES:Concert,musique
END:VEVENT
BEGIN:VEVENT
DTSTART;TZID=Europe/Paris:20230930T100000
DTEND;TZID=Europe/Paris:20230930T200000
DTSTAMP:20260421T155705
CREATED:20230807T131724Z
LAST-MODIFIED:20230903T183537Z
UID:7664-1696068000-1696104000@www.autourdelabaleine.fr
SUMMARY:Autour de la Baleine a 20 ans !
DESCRIPTION:La Baleine reprend la place Rozanoff avec la bibliothèque Saint-Eloi pour une fête digne des belles années passées. \n\n10h-15h : Ateliers créatifs et boutique gratuite\n12h-18h : Second souffle tient une buvette\n13h-14h : picnic et bingo de la Baleine\n13h-17h : ateliers maquillage et chamboule-tout\n14h-17h : atelier réparation vélos\n14h-18h : jeux avec le Périscope\nA 10h\, 12h et 15h : le flash-mob sur la chanson de la Baleine !\n15h30-17h30 : la fanfare Mouette&Charbons d’abord sur la dalle Rozanoff puis sur la place Bourgoin\n\n  \nA midi : pique-nique partagé et bingo des 20 ans. \nAprès-midi : concerts\, boutique gratuite\, flash-mob\, jeux… \nEt une buvette ! \n  \n 
URL:https://www.autourdelabaleine.fr/agenda/autour-de-la-baleine-a-20-ans/
LOCATION:place Rozanoff\, Place Rozanoff\, Paris\, France
ATTACH;FMTTYPE=image/jpeg:https://www.autourdelabaleine.fr/wp-content/uploads/2023/08/WhatsApp-Image-2023-07-29-at-22.55.12.jpeg
END:VEVENT
END:VCALENDAR