BEGIN:VCALENDAR
VERSION:2.0
PRODID:-//Autour de la baleine - ECPv6.15.20//NONSGML v1.0//EN
CALSCALE:GREGORIAN
METHOD:PUBLISH
X-WR-CALNAME:Autour de la baleine
X-ORIGINAL-URL:https://www.autourdelabaleine.fr
X-WR-CALDESC:Évènements pour Autour de la baleine
REFRESH-INTERVAL;VALUE=DURATION:PT1H
X-Robots-Tag:noindex
X-PUBLISHED-TTL:PT1H
BEGIN:VTIMEZONE
TZID:Europe/Paris
BEGIN:DAYLIGHT
TZOFFSETFROM:+0100
TZOFFSETTO:+0200
TZNAME:CEST
DTSTART:20210328T010000
END:DAYLIGHT
BEGIN:STANDARD
TZOFFSETFROM:+0200
TZOFFSETTO:+0100
TZNAME:CET
DTSTART:20211031T010000
END:STANDARD
BEGIN:DAYLIGHT
TZOFFSETFROM:+0100
TZOFFSETTO:+0200
TZNAME:CEST
DTSTART:20220327T010000
END:DAYLIGHT
BEGIN:STANDARD
TZOFFSETFROM:+0200
TZOFFSETTO:+0100
TZNAME:CET
DTSTART:20221030T010000
END:STANDARD
BEGIN:DAYLIGHT
TZOFFSETFROM:+0100
TZOFFSETTO:+0200
TZNAME:CEST
DTSTART:20230326T010000
END:DAYLIGHT
BEGIN:STANDARD
TZOFFSETFROM:+0200
TZOFFSETTO:+0100
TZNAME:CET
DTSTART:20231029T010000
END:STANDARD
END:VTIMEZONE
BEGIN:VEVENT
DTSTART;TZID=Europe/Paris:20221203T140000
DTEND;TZID=Europe/Paris:20221203T143000
DTSTAMP:20260420T013849
CREATED:20220215T111135Z
LAST-MODIFIED:20220215T111135Z
UID:6859-1670076000-1670077800@www.autourdelabaleine.fr
SUMMARY:Session d’accueil des nouveaux adhérents
DESCRIPTION:Session dédiée aux nouveaux adhérents par Audrey / Catherine / Sylvie organisée chaque 1er samedi du mois à 14h (peut varier selon la disponibilité\, vérifier le calendrier) \nLes anciens adhérents peuvent éventuellement venir pour connaître le jardin et les tâches à réaliser. \nVous pouvez vous inscrire ci-dessous pour les organisateurs soient au courant du nombre de présents. \nMerci
URL:https://www.autourdelabaleine.fr/agenda/session-daccueil-des-nouveaux-adherents-12/
LOCATION:Jardin partagé Baleine verte
END:VEVENT
BEGIN:VEVENT
DTSTART;TZID=Europe/Paris:20221204T160000
DTEND;TZID=Europe/Paris:20221204T200000
DTSTAMP:20260420T013849
CREATED:20220904T172634Z
LAST-MODIFIED:20221202T184123Z
UID:7095-1670169600-1670184000@www.autourdelabaleine.fr
SUMMARY:Fête de la rotation et du potiron
DESCRIPTION:Tous les deux ans\, on change de parcelle ! \nUn tirage au sort sera organisé au jardin pour répartir de nouveau les parcelles et chacun·e pourra échanger avec l’ancien·ne jardinier·e de sa nouvelle parcelle (voire même échanger des plantes\, car la période est propice au replantage) \nLa traditionnelle soupe de potiron de Daniel nous réchauffera en fin d’après-midi.
URL:https://www.autourdelabaleine.fr/agenda/fete-de-la-rotation-et-du-potiron/
LOCATION:Jardin partagé Baleine verte
ATTACH;FMTTYPE=image/jpeg:https://www.autourdelabaleine.fr/wp-content/uploads/2021/11/WhatsApp-Image-2021-11-21-at-19.35.561-1.jpeg
END:VEVENT
BEGIN:VEVENT
DTSTART;TZID=Europe/Paris:20221211T140000
DTEND;TZID=Europe/Paris:20221211T170000
DTSTAMP:20260420T013849
CREATED:20221124T221643Z
LAST-MODIFIED:20221124T225724Z
UID:7194-1670767200-1670778000@www.autourdelabaleine.fr
SUMMARY:Atelier créatif : peinture sur porcelaine et origami
DESCRIPTION:Aurore et Henriette vous proposent un après-midi de création le dimanche 11 décembre 2022 ! venez fabriquer vous-même de quoi décorer sapin et réaliser de petits présents pour Noël qui s’approche. \n\nAu programme de 14h à 16h\n\nPeinture sur porcelaine : les objets peints seront cuits dans un four spécial et vous pourrez récupérer les créations la semaine qui suit. (Si vous vous peindre un objet en particulier\, vous pouvez venir avec l’objet à peindre.)\nCréations de boites en papier : avec du papier recyclé\, une technique de pliage permet de créer de jolies boites pour emballer de petits objets à offrir\nGuirlandes en origami : vous pourrez décorer votre sapin (ou autre) de vos créations en papiers japonais.\n\nInfo pratiques\n\nL’atelier sera limité en nombre de participant car nous devons prévoir le matériel. Une participation aux frais sera peut être demandée (maxi 3€ envisagé). A confirmer. On vous préviendra par mail ou tel à l’avance.\n\nLes enfants sont sous la responsabilité de leurs parents et doivent être accompagnés pour participer à l’atelier. Les adultes aussi peuvent participer à l’atelier.\n\nExemple de réalisations…\n  
URL:https://www.autourdelabaleine.fr/agenda/atelier-creatif-peinture-sur-porcelaine-et-origami/
LOCATION:Café Maya\, 10 rue Erard\, Paris\, 75012\, France
CATEGORIES:Atelier,enfants
ATTACH;FMTTYPE=image/jpeg:https://www.autourdelabaleine.fr/wp-content/uploads/2022/11/peinture-sur-porcelaine-four.jpg
END:VEVENT
BEGIN:VEVENT
DTSTART;TZID=Europe/Paris:20221211T150000
DTEND;TZID=Europe/Paris:20221211T160000
DTSTAMP:20260420T013849
CREATED:20221001T064406Z
LAST-MODIFIED:20221001T064406Z
UID:7127-1670770800-1670774400@www.autourdelabaleine.fr
SUMMARY:Contes organisés par Histoire et Companies
DESCRIPTION:Organisée par Histoire et Companies \nhttps://histoiresetcie.jimdofree.com/ \nPar Anne-Marie et Chantale
URL:https://www.autourdelabaleine.fr/agenda/contes-organises-par-histoire-et-companies-2/
END:VEVENT
END:VCALENDAR