BEGIN:VCALENDAR
VERSION:2.0
PRODID:-//Autour de la baleine - ECPv6.15.20//NONSGML v1.0//EN
CALSCALE:GREGORIAN
METHOD:PUBLISH
X-WR-CALNAME:Autour de la baleine
X-ORIGINAL-URL:https://www.autourdelabaleine.fr
X-WR-CALDESC:Évènements pour Autour de la baleine
REFRESH-INTERVAL;VALUE=DURATION:PT1H
X-Robots-Tag:noindex
X-PUBLISHED-TTL:PT1H
BEGIN:VTIMEZONE
TZID:Europe/Paris
BEGIN:DAYLIGHT
TZOFFSETFROM:+0100
TZOFFSETTO:+0200
TZNAME:CEST
DTSTART:20210328T010000
END:DAYLIGHT
BEGIN:STANDARD
TZOFFSETFROM:+0200
TZOFFSETTO:+0100
TZNAME:CET
DTSTART:20211031T010000
END:STANDARD
BEGIN:DAYLIGHT
TZOFFSETFROM:+0100
TZOFFSETTO:+0200
TZNAME:CEST
DTSTART:20220327T010000
END:DAYLIGHT
BEGIN:STANDARD
TZOFFSETFROM:+0200
TZOFFSETTO:+0100
TZNAME:CET
DTSTART:20221030T010000
END:STANDARD
BEGIN:DAYLIGHT
TZOFFSETFROM:+0100
TZOFFSETTO:+0200
TZNAME:CEST
DTSTART:20230326T010000
END:DAYLIGHT
BEGIN:STANDARD
TZOFFSETFROM:+0200
TZOFFSETTO:+0100
TZNAME:CET
DTSTART:20231029T010000
END:STANDARD
END:VTIMEZONE
BEGIN:VEVENT
DTSTART;TZID=Europe/Paris:20221105T140000
DTEND;TZID=Europe/Paris:20221105T143000
DTSTAMP:20260420T032750
CREATED:20220215T111007Z
LAST-MODIFIED:20220215T111007Z
UID:6856-1667656800-1667658600@www.autourdelabaleine.fr
SUMMARY:Session d’accueil des nouveaux adhérents
DESCRIPTION:Session dédiée aux nouveaux adhérents par Audrey / Catherine / Sylvie organisée chaque 1er samedi du mois à 14h (peut varier selon la disponibilité\, vérifier le calendrier) \nLes anciens adhérents peuvent éventuellement venir pour connaître le jardin et les tâches à réaliser. \nVous pouvez vous inscrire ci-dessous pour les organisateurs soient au courant du nombre de présents. \nMerci
URL:https://www.autourdelabaleine.fr/agenda/session-daccueil-des-nouveaux-adherents-11/
LOCATION:Jardin partagé Baleine verte
END:VEVENT
BEGIN:VEVENT
DTSTART;TZID=Europe/Paris:20221113T150000
DTEND;TZID=Europe/Paris:20221113T160000
DTSTAMP:20260420T032750
CREATED:20221001T064421Z
LAST-MODIFIED:20221001T064421Z
UID:7126-1668351600-1668355200@www.autourdelabaleine.fr
SUMMARY:Contes organisés par Histoire et Companies
DESCRIPTION:Organisée par Histoire et Companies \nhttps://histoiresetcie.jimdofree.com/ \nPar Anne-Marie et Chantale
URL:https://www.autourdelabaleine.fr/agenda/contes-organises-par-histoire-et-companies-3/
END:VEVENT
BEGIN:VEVENT
DTSTART;TZID=Europe/Paris:20221116T193000
DTEND;TZID=Europe/Paris:20221116T193000
DTSTAMP:20260420T032750
CREATED:20221008T134054Z
LAST-MODIFIED:20221008T134054Z
UID:7148-1668627000-1668627000@www.autourdelabaleine.fr
SUMMARY:Reunion SAFRAN - Preparation fete du 14 janvier au cafe maya
DESCRIPTION:
URL:https://www.autourdelabaleine.fr/agenda/reunion-safran-preparation-fete-du-14-janvier-au-cafe-maya/
END:VEVENT
BEGIN:VEVENT
DTSTART;TZID=Europe/Paris:20221116T193000
DTEND;TZID=Europe/Paris:20221116T210000
DTSTAMP:20260420T032750
CREATED:20221107T100647Z
LAST-MODIFIED:20221107T100647Z
UID:7178-1668627000-1668632400@www.autourdelabaleine.fr
SUMMARY:Am'apéro n°1
DESCRIPTION:Dégustation des fromages du collectif Percheron
URL:https://www.autourdelabaleine.fr/agenda/amapero-n1/
LOCATION:Café Maya\, 10 rue Erard\, Paris\, 75012\, France
ATTACH;FMTTYPE=image/jpeg:https://www.autourdelabaleine.fr/wp-content/uploads/2022/11/Poster-fruits-photomontage-Vert-Anis.jpg
END:VEVENT
END:VCALENDAR