BEGIN:VCALENDAR
VERSION:2.0
PRODID:-//Autour de la baleine - ECPv6.15.20//NONSGML v1.0//EN
CALSCALE:GREGORIAN
METHOD:PUBLISH
X-ORIGINAL-URL:https://www.autourdelabaleine.fr
X-WR-CALDESC:Évènements pour Autour de la baleine
REFRESH-INTERVAL;VALUE=DURATION:PT1H
X-Robots-Tag:noindex
X-PUBLISHED-TTL:PT1H
BEGIN:VTIMEZONE
TZID:Europe/Paris
BEGIN:DAYLIGHT
TZOFFSETFROM:+0100
TZOFFSETTO:+0200
TZNAME:CEST
DTSTART:20210328T010000
END:DAYLIGHT
BEGIN:STANDARD
TZOFFSETFROM:+0200
TZOFFSETTO:+0100
TZNAME:CET
DTSTART:20211031T010000
END:STANDARD
BEGIN:DAYLIGHT
TZOFFSETFROM:+0100
TZOFFSETTO:+0200
TZNAME:CEST
DTSTART:20220327T010000
END:DAYLIGHT
BEGIN:STANDARD
TZOFFSETFROM:+0200
TZOFFSETTO:+0100
TZNAME:CET
DTSTART:20221030T010000
END:STANDARD
BEGIN:DAYLIGHT
TZOFFSETFROM:+0100
TZOFFSETTO:+0200
TZNAME:CEST
DTSTART:20230326T010000
END:DAYLIGHT
BEGIN:STANDARD
TZOFFSETFROM:+0200
TZOFFSETTO:+0100
TZNAME:CET
DTSTART:20231029T010000
END:STANDARD
END:VTIMEZONE
BEGIN:VEVENT
DTSTART;TZID=Europe/Paris:20221001T140000
DTEND;TZID=Europe/Paris:20221001T143000
DTSTAMP:20260420T051230
CREATED:20220215T110856Z
LAST-MODIFIED:20220215T110856Z
UID:6853-1664632800-1664634600@www.autourdelabaleine.fr
SUMMARY:Session d’accueil des nouveaux adhérents
DESCRIPTION:Session dédiée aux nouveaux adhérents par Audrey / Catherine / Sylvie organisée chaque 1er samedi du mois à 14h (peut varier selon la disponibilité\, vérifier le calendrier) \nLes anciens adhérents peuvent éventuellement venir pour connaître le jardin et les tâches à réaliser. \nVous pouvez vous inscrire ci-dessous pour les organisateurs soient au courant du nombre de présents. \nMerci
URL:https://www.autourdelabaleine.fr/agenda/session-daccueil-des-nouveaux-adherents-10/
LOCATION:Jardin partagé Baleine verte
END:VEVENT
BEGIN:VEVENT
DTSTART;TZID=Europe/Paris:20221001T160000
DTEND;TZID=Europe/Paris:20221001T200000
DTSTAMP:20260420T051230
CREATED:20220904T171951Z
LAST-MODIFIED:20220904T172049Z
UID:7092-1664640000-1664654400@www.autourdelabaleine.fr
SUMMARY:Grand nettoyage d'automne
DESCRIPTION:Inauguration du grand tableau noir avec la liste des choses à faire au jardin et on se met tout de suite à l’ouvrage : \n\nréparation des bacs en bois le long des parcelles\nnettoyage des massifs le long des grilles\nrangement de la cabane\, chaisothèque et serre\njardinage parcelle collective\n\nEt d’autres choses ! \nL’après-midi se terminera par un apéro partagé à 18h30/ \n–
URL:https://www.autourdelabaleine.fr/agenda/grand-nettoyage-dautomne/
LOCATION:Jardin partagé Baleine verte
ATTACH;FMTTYPE=image/jpeg:https://www.autourdelabaleine.fr/wp-content/uploads/2022/09/WhatsApp-Image-2022-09-04-at-17.25.05.jpeg
END:VEVENT
BEGIN:VEVENT
DTSTART;TZID=Europe/Paris:20221009T150000
DTEND;TZID=Europe/Paris:20221009T160000
DTSTAMP:20260420T051230
CREATED:20221001T063920Z
LAST-MODIFIED:20221001T063920Z
UID:7118-1665327600-1665331200@www.autourdelabaleine.fr
SUMMARY:Contes organisés par Histoire et Companies
DESCRIPTION:Organisée par Histoire et Companies \nhttps://histoiresetcie.jimdofree.com/ \nPar Anne-Marie et Chantale
URL:https://www.autourdelabaleine.fr/agenda/contes-organises-par-histoire-et-companies/
END:VEVENT
BEGIN:VEVENT
DTSTART;TZID=Europe/Paris:20221017T190000
DTEND;TZID=Europe/Paris:20221017T213000
DTSTAMP:20260420T051230
CREATED:20221005T211856Z
LAST-MODIFIED:20221005T211856Z
UID:7142-1666033200-1666042200@www.autourdelabaleine.fr
SUMMARY:Atelier "Self Couture"
DESCRIPTION:Vous avez une pile de reprisage impossible à réduire ?  \nVous avez envie de coudre à plusieur.e.s ?  \nVous ne savez pas coudre mais vous aimeriez bien ?  \nVenez avec votre machine ou sans\, avec vos aiguilles\, fils et tout pour un atelier cousette en autonomie. \nPS : si vous êtes intéressée par la confection de protège-culotte lavables\, dites-le avant le jeudi 13/10 en commentaire pour qu’on prévoit les fournitures.
URL:https://www.autourdelabaleine.fr/agenda/atelier-self-couture-2/
LOCATION:Café Maya\, 10 rue Erard\, Paris\, 75012\, France
CATEGORIES:Atelier,couture
ATTACH;FMTTYPE=image/jpeg:https://www.autourdelabaleine.fr/wp-content/uploads/2022/10/pexels-los-muertos-crew-8030168.jpg
END:VEVENT
END:VCALENDAR