BEGIN:VCALENDAR
VERSION:2.0
PRODID:-//Autour de la baleine - ECPv6.15.20//NONSGML v1.0//EN
CALSCALE:GREGORIAN
METHOD:PUBLISH
X-ORIGINAL-URL:https://www.autourdelabaleine.fr
X-WR-CALDESC:Évènements pour Autour de la baleine
REFRESH-INTERVAL;VALUE=DURATION:PT1H
X-Robots-Tag:noindex
X-PUBLISHED-TTL:PT1H
BEGIN:VTIMEZONE
TZID:Europe/Paris
BEGIN:DAYLIGHT
TZOFFSETFROM:+0100
TZOFFSETTO:+0200
TZNAME:CEST
DTSTART:20190331T010000
END:DAYLIGHT
BEGIN:STANDARD
TZOFFSETFROM:+0200
TZOFFSETTO:+0100
TZNAME:CET
DTSTART:20191027T010000
END:STANDARD
BEGIN:DAYLIGHT
TZOFFSETFROM:+0100
TZOFFSETTO:+0200
TZNAME:CEST
DTSTART:20200329T010000
END:DAYLIGHT
BEGIN:STANDARD
TZOFFSETFROM:+0200
TZOFFSETTO:+0100
TZNAME:CET
DTSTART:20201025T010000
END:STANDARD
BEGIN:DAYLIGHT
TZOFFSETFROM:+0100
TZOFFSETTO:+0200
TZNAME:CEST
DTSTART:20210328T010000
END:DAYLIGHT
BEGIN:STANDARD
TZOFFSETFROM:+0200
TZOFFSETTO:+0100
TZNAME:CET
DTSTART:20211031T010000
END:STANDARD
END:VTIMEZONE
BEGIN:VEVENT
DTSTART;TZID=Europe/Paris:20200119T160000
DTEND;TZID=Europe/Paris:20200119T160000
DTSTAMP:20260422T052136
CREATED:20200116T080642Z
LAST-MODIFIED:20200116T080642Z
UID:4365-1579449600-1579449600@www.autourdelabaleine.fr
SUMMARY:Galette au jardin !
DESCRIPTION:Pour fêter la nouvelle année 2020 pleine de promesses vertes\, nous vous proposons de venir partager une bonne galette au jardin partagé de la Baleine verte le dimanche 20 janvier à 16h \nConcours de galette : venez avec votre meilleure recette ! \nGoûter participatif.
URL:https://www.autourdelabaleine.fr/agenda/galette-au-jardin/
LOCATION:Jardin partagé Baleine verte
CATEGORIES:Goûter
ATTACH;FMTTYPE=image/jpeg:https://www.autourdelabaleine.fr/wp-content/uploads/2020/01/IMG-20200115-WA0004.jpg
END:VEVENT
END:VCALENDAR