BEGIN:VCALENDAR
VERSION:2.0
PRODID:-//Autour de la baleine - ECPv6.15.20//NONSGML v1.0//EN
CALSCALE:GREGORIAN
METHOD:PUBLISH
X-ORIGINAL-URL:https://www.autourdelabaleine.fr
X-WR-CALDESC:Évènements pour Autour de la baleine
REFRESH-INTERVAL;VALUE=DURATION:PT1H
X-Robots-Tag:noindex
X-PUBLISHED-TTL:PT1H
BEGIN:VTIMEZONE
TZID:Europe/Paris
BEGIN:DAYLIGHT
TZOFFSETFROM:+0100
TZOFFSETTO:+0200
TZNAME:CEST
DTSTART:20220327T010000
END:DAYLIGHT
BEGIN:STANDARD
TZOFFSETFROM:+0200
TZOFFSETTO:+0100
TZNAME:CET
DTSTART:20221030T010000
END:STANDARD
BEGIN:DAYLIGHT
TZOFFSETFROM:+0100
TZOFFSETTO:+0200
TZNAME:CEST
DTSTART:20230326T010000
END:DAYLIGHT
BEGIN:STANDARD
TZOFFSETFROM:+0200
TZOFFSETTO:+0100
TZNAME:CET
DTSTART:20231029T010000
END:STANDARD
BEGIN:DAYLIGHT
TZOFFSETFROM:+0100
TZOFFSETTO:+0200
TZNAME:CEST
DTSTART:20240331T010000
END:DAYLIGHT
BEGIN:STANDARD
TZOFFSETFROM:+0200
TZOFFSETTO:+0100
TZNAME:CET
DTSTART:20241027T010000
END:STANDARD
END:VTIMEZONE
BEGIN:VEVENT
DTSTART;TZID=Europe/Paris:20230922T183000
DTEND;TZID=Europe/Paris:20230922T200000
DTSTAMP:20260421T211109
CREATED:20230820T161436Z
LAST-MODIFIED:20230820T161949Z
UID:7674-1695407400-1695412800@www.autourdelabaleine.fr
SUMMARY:Balade commentée "arbres sans frontières"
DESCRIPTION:Balade dans le quartier Saint-Eloi à la découverte des arbres sans frontières\, dans le cadre de la  « Fête des jardins » \n20 personnes max. \nSur réservation par mail : labaleineverte12@gmail.com
URL:https://www.autourdelabaleine.fr/agenda/balade-commentee-arbres-sans-frontieres-2/
LOCATION:Jardin partagé Baleine verte
CATEGORIES:balade
ATTACH;FMTTYPE=image/jpeg:https://www.autourdelabaleine.fr/wp-content/uploads/2023/07/20210919_1906061-2048x1536-1.jpg
END:VEVENT
END:VCALENDAR