BEGIN:VCALENDAR
VERSION:2.0
PRODID:-//Autour de la baleine - ECPv6.15.20//NONSGML v1.0//EN
CALSCALE:GREGORIAN
METHOD:PUBLISH
X-WR-CALNAME:Autour de la baleine
X-ORIGINAL-URL:https://www.autourdelabaleine.fr
X-WR-CALDESC:Évènements pour Autour de la baleine
REFRESH-INTERVAL;VALUE=DURATION:PT1H
X-Robots-Tag:noindex
X-PUBLISHED-TTL:PT1H
BEGIN:VTIMEZONE
TZID:Europe/Paris
BEGIN:DAYLIGHT
TZOFFSETFROM:+0100
TZOFFSETTO:+0200
TZNAME:CEST
DTSTART:20220327T010000
END:DAYLIGHT
BEGIN:STANDARD
TZOFFSETFROM:+0200
TZOFFSETTO:+0100
TZNAME:CET
DTSTART:20221030T010000
END:STANDARD
BEGIN:DAYLIGHT
TZOFFSETFROM:+0100
TZOFFSETTO:+0200
TZNAME:CEST
DTSTART:20230326T010000
END:DAYLIGHT
BEGIN:STANDARD
TZOFFSETFROM:+0200
TZOFFSETTO:+0100
TZNAME:CET
DTSTART:20231029T010000
END:STANDARD
BEGIN:DAYLIGHT
TZOFFSETFROM:+0100
TZOFFSETTO:+0200
TZNAME:CEST
DTSTART:20240331T010000
END:DAYLIGHT
BEGIN:STANDARD
TZOFFSETFROM:+0200
TZOFFSETTO:+0100
TZNAME:CET
DTSTART:20241027T010000
END:STANDARD
END:VTIMEZONE
BEGIN:VEVENT
DTSTART;TZID=Europe/Paris:20231001T110000
DTEND;TZID=Europe/Paris:20231001T120000
DTSTAMP:20260420T155142
CREATED:20230724T075448Z
LAST-MODIFIED:20230724T075605Z
UID:7628-1696158000-1696161600@www.autourdelabaleine.fr
SUMMARY:séance de Feldenkrais
DESCRIPTION:Démonstration de Feldenkrais avec Mavie\, au jardin \nGratuit \n6 places max\, sur inscription : labaleineverte12@gmail.com
URL:https://www.autourdelabaleine.fr/agenda/seance-de-feldenkrais/
LOCATION:Jardin partagé Baleine verte
CATEGORIES:adultes,Atelier,feldenkrais
END:VEVENT
END:VCALENDAR